BEGIN:VCALENDAR
VERSION:2.0
PRODID:-//St Stephen&#039;s School - Haldi - ECPv6.15.7//NONSGML v1.0//EN
CALSCALE:GREGORIAN
METHOD:PUBLISH
X-ORIGINAL-URL:https://hste1.bhncdsb.ca
X-WR-CALDESC:Events for St Stephen&#039;s School - Haldi
REFRESH-INTERVAL;VALUE=DURATION:PT1H
X-Robots-Tag:noindex
X-PUBLISHED-TTL:PT1H
BEGIN:VTIMEZONE
TZID:America/Toronto
BEGIN:DAYLIGHT
TZOFFSETFROM:-0500
TZOFFSETTO:-0400
TZNAME:EDT
DTSTART:20240310T070000
END:DAYLIGHT
BEGIN:STANDARD
TZOFFSETFROM:-0400
TZOFFSETTO:-0500
TZNAME:EST
DTSTART:20241103T060000
END:STANDARD
BEGIN:DAYLIGHT
TZOFFSETFROM:-0500
TZOFFSETTO:-0400
TZNAME:EDT
DTSTART:20250309T070000
END:DAYLIGHT
BEGIN:STANDARD
TZOFFSETFROM:-0400
TZOFFSETTO:-0500
TZNAME:EST
DTSTART:20251102T060000
END:STANDARD
BEGIN:DAYLIGHT
TZOFFSETFROM:-0500
TZOFFSETTO:-0400
TZNAME:EDT
DTSTART:20260308T070000
END:DAYLIGHT
BEGIN:STANDARD
TZOFFSETFROM:-0400
TZOFFSETTO:-0500
TZNAME:EST
DTSTART:20261101T060000
END:STANDARD
END:VTIMEZONE
BEGIN:VEVENT
DTSTART;TZID=America/Toronto:20251124T080000
DTEND;TZID=America/Toronto:20251215T170000
DTSTAMP:20260421T180039
CREATED:20251031T194509Z
LAST-MODIFIED:20251031T194509Z
UID:249810-1763971200-1765818000@hste1.bhncdsb.ca
SUMMARY:Hat/Sock Drive Begins
DESCRIPTION:
URL:https://hste1.bhncdsb.ca/event/hat-sock-drive-begins/
END:VEVENT
BEGIN:VEVENT
DTSTART;VALUE=DATE:20251201
DTEND;VALUE=DATE:20251202
DTSTAMP:20260421T180039
CREATED:20251121T200854Z
LAST-MODIFIED:20251128T210724Z
UID:249852-1764547200-1764633599@hste1.bhncdsb.ca
SUMMARY:Lupton Street Studio Visits
DESCRIPTION:
URL:https://hste1.bhncdsb.ca/event/lupton-street-studio-visits/
END:VEVENT
BEGIN:VEVENT
DTSTART;VALUE=DATE:20251201
DTEND;VALUE=DATE:20251202
DTSTAMP:20260421T180039
CREATED:20251121T202213Z
LAST-MODIFIED:20251121T202213Z
UID:249860-1764547200-1764633599@hste1.bhncdsb.ca
SUMMARY:Subway starts again (school cash online)
DESCRIPTION:
URL:https://hste1.bhncdsb.ca/event/subway-starts-again-school-cash-online/
END:VEVENT
BEGIN:VEVENT
DTSTART;TZID=America/Toronto:20251201T080000
DTEND;TZID=America/Toronto:20251212T170000
DTSTAMP:20260421T180039
CREATED:20251121T202809Z
LAST-MODIFIED:20251127T145224Z
UID:249862-1764576000-1765558800@hste1.bhncdsb.ca
SUMMARY:Start of Candy Grams $1 each
DESCRIPTION:First Nutrition Break
URL:https://hste1.bhncdsb.ca/event/start-of-candy-grams-1-each/
END:VEVENT
BEGIN:VEVENT
DTSTART;TZID=America/Toronto:20251201T112000
DTEND;TZID=America/Toronto:20251201T114000
DTSTAMP:20260421T180039
CREATED:20251128T205437Z
LAST-MODIFIED:20251128T205437Z
UID:249866-1764588000-1764589200@hste1.bhncdsb.ca
SUMMARY:Advent Liturgy Week 1 'HOPE'
DESCRIPTION:In the gym\, all are welcome to attend.
URL:https://hste1.bhncdsb.ca/event/advent-liturgy-week-1-hope/
END:VEVENT
END:VCALENDAR