BEGIN:VCALENDAR
VERSION:2.0
PRODID:-//St Stephen&#039;s School - Haldi - ECPv6.15.7//NONSGML v1.0//EN
CALSCALE:GREGORIAN
METHOD:PUBLISH
X-ORIGINAL-URL:https://hste1.bhncdsb.ca
X-WR-CALDESC:Events for St Stephen&#039;s School - Haldi
REFRESH-INTERVAL;VALUE=DURATION:PT1H
X-Robots-Tag:noindex
X-PUBLISHED-TTL:PT1H
BEGIN:VTIMEZONE
TZID:America/Toronto
BEGIN:DAYLIGHT
TZOFFSETFROM:-0500
TZOFFSETTO:-0400
TZNAME:EDT
DTSTART:20240310T070000
END:DAYLIGHT
BEGIN:STANDARD
TZOFFSETFROM:-0400
TZOFFSETTO:-0500
TZNAME:EST
DTSTART:20241103T060000
END:STANDARD
BEGIN:DAYLIGHT
TZOFFSETFROM:-0500
TZOFFSETTO:-0400
TZNAME:EDT
DTSTART:20250309T070000
END:DAYLIGHT
BEGIN:STANDARD
TZOFFSETFROM:-0400
TZOFFSETTO:-0500
TZNAME:EST
DTSTART:20251102T060000
END:STANDARD
BEGIN:DAYLIGHT
TZOFFSETFROM:-0500
TZOFFSETTO:-0400
TZNAME:EDT
DTSTART:20260308T070000
END:DAYLIGHT
BEGIN:STANDARD
TZOFFSETFROM:-0400
TZOFFSETTO:-0500
TZNAME:EST
DTSTART:20261101T060000
END:STANDARD
END:VTIMEZONE
BEGIN:VEVENT
DTSTART;TZID=America/Toronto:20251124T080000
DTEND;TZID=America/Toronto:20251215T170000
DTSTAMP:20260421T180025
CREATED:20251031T194509Z
LAST-MODIFIED:20251031T194509Z
UID:249810-1763971200-1765818000@hste1.bhncdsb.ca
SUMMARY:Hat/Sock Drive Begins
DESCRIPTION:
URL:https://hste1.bhncdsb.ca/event/hat-sock-drive-begins/
END:VEVENT
BEGIN:VEVENT
DTSTART;TZID=America/Toronto:20251201T080000
DTEND;TZID=America/Toronto:20251212T170000
DTSTAMP:20260421T180025
CREATED:20251121T202809Z
LAST-MODIFIED:20251127T145224Z
UID:249862-1764576000-1765558800@hste1.bhncdsb.ca
SUMMARY:Start of Candy Grams $1 each
DESCRIPTION:First Nutrition Break
URL:https://hste1.bhncdsb.ca/event/start-of-candy-grams-1-each/
END:VEVENT
BEGIN:VEVENT
DTSTART;VALUE=DATE:20251208
DTEND;VALUE=DATE:20251209
DTSTAMP:20260421T180025
CREATED:20251205T165814Z
LAST-MODIFIED:20251205T165857Z
UID:249883-1765152000-1765238399@hste1.bhncdsb.ca
SUMMARY:Test
DESCRIPTION:Categories\n\n\nGetting Started\nInstalling WordPress\nBasic Usage\nBasic Administration\nCustomizing\nMaintenance\nSecurity\nAdvanced Topics\nTroubleshooting\n\n\n\n\n\n\n\nGet a faster\, more secure website: update PHP today\n\n\n\n\n\nIn this article\n\n\nWhy PHP Matters To You\nBefore you update your PHP version\nHow to update your website’s PHP version for a faster\, more secure website\nFaster\, more secure WordPress websites for all\n\n\nYour WordPress site can be faster\, and more secure\, and you can make this happen! \nThis page will explain why this matters to you\, and then how you can fix it. \nWhy PHP Matters To You\n 
URL:https://hste1.bhncdsb.ca/event/test/
END:VEVENT
BEGIN:VEVENT
DTSTART;TZID=America/Toronto:20251208T134000
DTEND;TZID=America/Toronto:20251208T140000
DTSTAMP:20260421T180025
CREATED:20251128T205611Z
LAST-MODIFIED:20251128T210644Z
UID:249868-1765201200-1765202400@hste1.bhncdsb.ca
SUMMARY:Advent Liturgy Week 2 PEACE
DESCRIPTION:In the gym. All welcome to attend.
URL:https://hste1.bhncdsb.ca/event/advent-liturgy-week-2-peace/
END:VEVENT
END:VCALENDAR