BEGIN:VCALENDAR
VERSION:2.0
PRODID:-//St Stephen&#039;s School - Haldi - ECPv6.15.7//NONSGML v1.0//EN
CALSCALE:GREGORIAN
METHOD:PUBLISH
X-ORIGINAL-URL:https://hste1.bhncdsb.ca
X-WR-CALDESC:Events for St Stephen&#039;s School - Haldi
REFRESH-INTERVAL;VALUE=DURATION:PT1H
X-Robots-Tag:noindex
X-PUBLISHED-TTL:PT1H
BEGIN:VTIMEZONE
TZID:America/Toronto
BEGIN:DAYLIGHT
TZOFFSETFROM:-0500
TZOFFSETTO:-0400
TZNAME:EDT
DTSTART:20240310T070000
END:DAYLIGHT
BEGIN:STANDARD
TZOFFSETFROM:-0400
TZOFFSETTO:-0500
TZNAME:EST
DTSTART:20241103T060000
END:STANDARD
BEGIN:DAYLIGHT
TZOFFSETFROM:-0500
TZOFFSETTO:-0400
TZNAME:EDT
DTSTART:20250309T070000
END:DAYLIGHT
BEGIN:STANDARD
TZOFFSETFROM:-0400
TZOFFSETTO:-0500
TZNAME:EST
DTSTART:20251102T060000
END:STANDARD
BEGIN:DAYLIGHT
TZOFFSETFROM:-0500
TZOFFSETTO:-0400
TZNAME:EDT
DTSTART:20260308T070000
END:DAYLIGHT
BEGIN:STANDARD
TZOFFSETFROM:-0400
TZOFFSETTO:-0500
TZNAME:EST
DTSTART:20261101T060000
END:STANDARD
END:VTIMEZONE
BEGIN:VEVENT
DTSTART;TZID=America/Toronto:20251219T091000
DTEND;TZID=America/Toronto:20251219T093000
DTSTAMP:20260421T180108
CREATED:20251128T210516Z
LAST-MODIFIED:20251128T210516Z
UID:249872-1766135400-1766136600@hste1.bhncdsb.ca
SUMMARY:Advent Liturgy Week 4 LOVE
DESCRIPTION:All are welcome to attend.
URL:https://hste1.bhncdsb.ca/event/advent-liturgy-week-4-love/
END:VEVENT
END:VCALENDAR