BEGIN:VCALENDAR
VERSION:2.0
PRODID:-//St Stephen&#039;s School - Haldi - ECPv6.15.7//NONSGML v1.0//EN
CALSCALE:GREGORIAN
METHOD:PUBLISH
X-WR-CALNAME:St Stephen&#039;s School - Haldi
X-ORIGINAL-URL:https://hste1.bhncdsb.ca
X-WR-CALDESC:Events for St Stephen&#039;s School - Haldi
REFRESH-INTERVAL;VALUE=DURATION:PT1H
X-Robots-Tag:noindex
X-PUBLISHED-TTL:PT1H
BEGIN:VTIMEZONE
TZID:America/Toronto
BEGIN:DAYLIGHT
TZOFFSETFROM:-0500
TZOFFSETTO:-0400
TZNAME:EDT
DTSTART:20250309T070000
END:DAYLIGHT
BEGIN:STANDARD
TZOFFSETFROM:-0400
TZOFFSETTO:-0500
TZNAME:EST
DTSTART:20251102T060000
END:STANDARD
BEGIN:DAYLIGHT
TZOFFSETFROM:-0500
TZOFFSETTO:-0400
TZNAME:EDT
DTSTART:20260308T070000
END:DAYLIGHT
BEGIN:STANDARD
TZOFFSETFROM:-0400
TZOFFSETTO:-0500
TZNAME:EST
DTSTART:20261101T060000
END:STANDARD
BEGIN:DAYLIGHT
TZOFFSETFROM:-0500
TZOFFSETTO:-0400
TZNAME:EDT
DTSTART:20270314T070000
END:DAYLIGHT
BEGIN:STANDARD
TZOFFSETFROM:-0400
TZOFFSETTO:-0500
TZNAME:EST
DTSTART:20271107T060000
END:STANDARD
END:VTIMEZONE
BEGIN:VEVENT
DTSTART;TZID=America/Toronto:20260122T080000
DTEND;TZID=America/Toronto:20260211T170000
DTSTAMP:20260421T144146
CREATED:20260122T195111Z
LAST-MODIFIED:20260122T195111Z
UID:250089-1769068800-1770829200@hste1.bhncdsb.ca
SUMMARY:Candy Grams for Valentines
DESCRIPTION:Selling suckers for Valentines. From Feb 2-11\, will be distributed Feb 13.
URL:https://hste1.bhncdsb.ca/event/candy-grams-for-valentines/
END:VEVENT
BEGIN:VEVENT
DTSTART;TZID=America/Toronto:20260130T080000
DTEND;TZID=America/Toronto:20260130T170000
DTSTAMP:20260421T144146
CREATED:20251208T183708Z
LAST-MODIFIED:20251209T160120Z
UID:249909-1769760000-1769792400@hste1.bhncdsb.ca
SUMMARY:Colour houses for Carnaval\, January 30th
DESCRIPTION:Dear Parents & Guardians\, \nColour house of Carnaval will be held on Friday\, January 30th\, 2026. \nAs always\, my door is open should you have any concerns or compliments you wish to share. Your partnership is deeply appreciated. \nThank you for your ongoing support of our school community. \nMr. Docherty
URL:https://hste1.bhncdsb.ca/event/colour-houses-for-carnival/
END:VEVENT
END:VCALENDAR