BEGIN:VCALENDAR
VERSION:2.0
PRODID:-//St Stephen&#039;s School - Haldi - ECPv6.15.7//NONSGML v1.0//EN
CALSCALE:GREGORIAN
METHOD:PUBLISH
X-ORIGINAL-URL:https://hste1.bhncdsb.ca
X-WR-CALDESC:Events for St Stephen&#039;s School - Haldi
REFRESH-INTERVAL;VALUE=DURATION:PT1H
X-Robots-Tag:noindex
X-PUBLISHED-TTL:PT1H
BEGIN:VTIMEZONE
TZID:America/Toronto
BEGIN:DAYLIGHT
TZOFFSETFROM:-0500
TZOFFSETTO:-0400
TZNAME:EDT
DTSTART:20250309T070000
END:DAYLIGHT
BEGIN:STANDARD
TZOFFSETFROM:-0400
TZOFFSETTO:-0500
TZNAME:EST
DTSTART:20251102T060000
END:STANDARD
BEGIN:DAYLIGHT
TZOFFSETFROM:-0500
TZOFFSETTO:-0400
TZNAME:EDT
DTSTART:20260308T070000
END:DAYLIGHT
BEGIN:STANDARD
TZOFFSETFROM:-0400
TZOFFSETTO:-0500
TZNAME:EST
DTSTART:20261101T060000
END:STANDARD
BEGIN:DAYLIGHT
TZOFFSETFROM:-0500
TZOFFSETTO:-0400
TZNAME:EDT
DTSTART:20270314T070000
END:DAYLIGHT
BEGIN:STANDARD
TZOFFSETFROM:-0400
TZOFFSETTO:-0500
TZNAME:EST
DTSTART:20271107T060000
END:STANDARD
END:VTIMEZONE
BEGIN:VEVENT
DTSTART;TZID=America/Toronto:20260217T080000
DTEND;TZID=America/Toronto:20260217T170000
DTSTAMP:20260420T103340
CREATED:20251216T165556Z
LAST-MODIFIED:20251216T165556Z
UID:250031-1771315200-1771347600@hste1.bhncdsb.ca
SUMMARY:Subway Day Feb 17th
DESCRIPTION:
URL:https://hste1.bhncdsb.ca/event/subway-day-feb-17th/
END:VEVENT
BEGIN:VEVENT
DTSTART;TZID=America/Toronto:20260217T080000
DTEND;TZID=America/Toronto:20260217T170000
DTSTAMP:20260420T103340
CREATED:20260130T190008Z
LAST-MODIFIED:20260130T190008Z
UID:250108-1771315200-1771347600@hste1.bhncdsb.ca
SUMMARY:Shrove/Pancake Tuesday
DESCRIPTION:Parent council making pancakes for students and staff.
URL:https://hste1.bhncdsb.ca/event/shrove-pancake-tuesday/
END:VEVENT
END:VCALENDAR