BEGIN:VCALENDAR
VERSION:2.0
PRODID:-//St Stephen&#039;s School - Haldi - ECPv6.15.7//NONSGML v1.0//EN
CALSCALE:GREGORIAN
METHOD:PUBLISH
X-WR-CALNAME:St Stephen&#039;s School - Haldi
X-ORIGINAL-URL:https://hste1.bhncdsb.ca
X-WR-CALDESC:Events for St Stephen&#039;s School - Haldi
REFRESH-INTERVAL;VALUE=DURATION:PT1H
X-Robots-Tag:noindex
X-PUBLISHED-TTL:PT1H
BEGIN:VTIMEZONE
TZID:America/Toronto
BEGIN:DAYLIGHT
TZOFFSETFROM:-0500
TZOFFSETTO:-0400
TZNAME:EDT
DTSTART:20240310T070000
END:DAYLIGHT
BEGIN:STANDARD
TZOFFSETFROM:-0400
TZOFFSETTO:-0500
TZNAME:EST
DTSTART:20241103T060000
END:STANDARD
BEGIN:DAYLIGHT
TZOFFSETFROM:-0500
TZOFFSETTO:-0400
TZNAME:EDT
DTSTART:20250309T070000
END:DAYLIGHT
BEGIN:STANDARD
TZOFFSETFROM:-0400
TZOFFSETTO:-0500
TZNAME:EST
DTSTART:20251102T060000
END:STANDARD
BEGIN:DAYLIGHT
TZOFFSETFROM:-0500
TZOFFSETTO:-0400
TZNAME:EDT
DTSTART:20260308T070000
END:DAYLIGHT
BEGIN:STANDARD
TZOFFSETFROM:-0400
TZOFFSETTO:-0500
TZNAME:EST
DTSTART:20261101T060000
END:STANDARD
END:VTIMEZONE
BEGIN:VEVENT
DTSTART;VALUE=DATE:20250505
DTEND;VALUE=DATE:20250506
DTSTAMP:20260420T003220
CREATED:20250417T134129Z
LAST-MODIFIED:20250417T134129Z
UID:249601-1746403200-1746489599@hste1.bhncdsb.ca
SUMMARY:Chocolate Bar Fundraiser Ends
DESCRIPTION:
URL:https://hste1.bhncdsb.ca/event/chocolate-bar-fundraiser-ends/
END:VEVENT
BEGIN:VEVENT
DTSTART;TZID=America/Toronto:20250504T103000
DTEND;TZID=America/Toronto:20250504T113000
DTSTAMP:20260420T003220
CREATED:20250415T170318Z
LAST-MODIFIED:20250415T170318Z
UID:249595-1746354600-1746358200@hste1.bhncdsb.ca
SUMMARY:First Holy Communion
DESCRIPTION:
URL:https://hste1.bhncdsb.ca/event/first-holy-communion/
LOCATION:St. Stephen Church
END:VEVENT
BEGIN:VEVENT
DTSTART;TZID=America/Toronto:20250430T161500
DTEND;TZID=America/Toronto:20250430T171500
DTSTAMP:20260420T003220
CREATED:20250401T164410Z
LAST-MODIFIED:20250401T164410Z
UID:249580-1746029700-1746033300@hste1.bhncdsb.ca
SUMMARY:Catholic School Council Meeting
DESCRIPTION:
URL:https://hste1.bhncdsb.ca/event/catholic-school-council-meeting/
END:VEVENT
BEGIN:VEVENT
DTSTART;TZID=America/Toronto:20250424T160000
DTEND;TZID=America/Toronto:20250424T180000
DTSTAMP:20260420T003220
CREATED:20250211T175850Z
LAST-MODIFIED:20250401T163954Z
UID:249481-1745510400-1745517600@hste1.bhncdsb.ca
SUMMARY:Math Curriculum Night (4-6 pm)
DESCRIPTION:Save the date!!!! Thursday\, April 24th!!! \nWe are excited to share some information with you about our curriculum night!!! So we are going to host a math night here at St. Stephen’s!!  Everyone is welcome to attend … We are going to have a few rooms laid out for you to visit!! There will be snacks and lots of fun happening!!! There will be a room dedicated to math games for each level (primary\, junior\, intermediate)!!   There will also be a takeaway with instructions on how to play the games you learn … Please come and join us and enjoy some great learning that feels like fun!! 🙂 \nDon’t forget bring your family … The materials will be available for you to actually play the games together!! \nThanks so much!! Hope to see you March 20th from 4 to 6 pm!!!!! \n  \n  \n**Keep Smiling** \nMaggie Scott \nSt. Stephen’s School \nELKP teacher!!
URL:https://hste1.bhncdsb.ca/event/math-curriculum-night/
END:VEVENT
BEGIN:VEVENT
DTSTART;VALUE=DATE:20250421
DTEND;VALUE=DATE:20250422
DTSTAMP:20260420T003220
CREATED:20250407T123149Z
LAST-MODIFIED:20250407T123149Z
UID:249590-1745193600-1745279999@hste1.bhncdsb.ca
SUMMARY:Easter Monday (no school)
DESCRIPTION:
URL:https://hste1.bhncdsb.ca/event/easter-monday-no-school/
END:VEVENT
BEGIN:VEVENT
DTSTART;VALUE=DATE:20250418
DTEND;VALUE=DATE:20250419
DTSTAMP:20260420T003220
CREATED:20250407T123108Z
LAST-MODIFIED:20250407T123108Z
UID:249588-1744934400-1745020799@hste1.bhncdsb.ca
SUMMARY:Good Friday (no school)
DESCRIPTION:
URL:https://hste1.bhncdsb.ca/event/good-friday-no-school/
END:VEVENT
BEGIN:VEVENT
DTSTART;VALUE=DATE:20250414
DTEND;VALUE=DATE:20250415
DTSTAMP:20260420T003220
CREATED:20250211T185519Z
LAST-MODIFIED:20250417T134255Z
UID:249498-1744588800-1744675199@hste1.bhncdsb.ca
SUMMARY:Chocolate Bar Fundraiser Starts
DESCRIPTION:Please make sure to make payments on the school cash online. The bank charges a fee when we bring them cash. Thank you
URL:https://hste1.bhncdsb.ca/event/krispy-kreme-donuts-pickup/
END:VEVENT
BEGIN:VEVENT
DTSTART;VALUE=DATE:20250411
DTEND;VALUE=DATE:20250412
DTSTAMP:20260420T003220
CREATED:20250401T164155Z
LAST-MODIFIED:20250401T164155Z
UID:249578-1744329600-1744415999@hste1.bhncdsb.ca
SUMMARY:PA Day
DESCRIPTION:No school for the students. Staff will be at school completing Mental Health Awareness Activities.
URL:https://hste1.bhncdsb.ca/event/pa-day/
END:VEVENT
BEGIN:VEVENT
DTSTART;VALUE=DATE:20250407
DTEND;VALUE=DATE:20250408
DTSTAMP:20260420T003220
CREATED:20250401T164542Z
LAST-MODIFIED:20250401T164603Z
UID:249582-1743984000-1744070399@hste1.bhncdsb.ca
SUMMARY:Volleyball Tournament (Gr. 7 & 8)
DESCRIPTION:
URL:https://hste1.bhncdsb.ca/event/volleyball-tournament-gr-7-8/
END:VEVENT
BEGIN:VEVENT
DTSTART;TZID=America/Toronto:20250327T160000
DTEND;TZID=America/Toronto:20250327T170000
DTSTAMP:20260420T003220
CREATED:20250214T174641Z
LAST-MODIFIED:20250228T162559Z
UID:249513-1743091200-1743094800@hste1.bhncdsb.ca
SUMMARY:Catholic School Council Meeting
DESCRIPTION:Discuss Swag and chocolate bar fundraiser
URL:https://hste1.bhncdsb.ca/event/catholic-school-council-meeting-virtual/
END:VEVENT
BEGIN:VEVENT
DTSTART;VALUE=DATE:20250324
DTEND;VALUE=DATE:20250325
DTSTAMP:20260420T003220
CREATED:20250121T172036Z
LAST-MODIFIED:20250123T153556Z
UID:249383-1742774400-1742860799@hste1.bhncdsb.ca
SUMMARY:Quick Start (FDK)-(3:30-5:30)
DESCRIPTION:
URL:https://hste1.bhncdsb.ca/event/quick-start-fdk-monday-march-24th-330-530/
END:VEVENT
BEGIN:VEVENT
DTSTART;VALUE=DATE:20250317
DTEND;VALUE=DATE:20250318
DTSTAMP:20260420T003220
CREATED:20250211T184252Z
LAST-MODIFIED:20250211T184252Z
UID:249495-1742169600-1742255999@hste1.bhncdsb.ca
SUMMARY:St. Patrick's Day (wear green)
DESCRIPTION:
URL:https://hste1.bhncdsb.ca/event/st-patricks-day-wear-green/
END:VEVENT
BEGIN:VEVENT
DTSTART;TZID=America/Toronto:20250307T080000
DTEND;TZID=America/Toronto:20250328T170000
DTSTAMP:20260420T003220
CREATED:20250307T173531Z
LAST-MODIFIED:20250307T173531Z
UID:249554-1741334400-1743181200@hste1.bhncdsb.ca
SUMMARY:St. Stephen School Swag Order Forms Due Friday March 27th
DESCRIPTION:Spirit Wear all.docx
URL:https://hste1.bhncdsb.ca/event/st-stephen-school-swag-order-forms-due-friday-march-27th/
END:VEVENT
BEGIN:VEVENT
DTSTART;VALUE=DATE:20250307
DTEND;VALUE=DATE:20250308
DTSTAMP:20260420T003220
CREATED:20250211T184202Z
LAST-MODIFIED:20250211T184202Z
UID:249493-1741305600-1741391999@hste1.bhncdsb.ca
SUMMARY:Dress in Patterns
DESCRIPTION:
URL:https://hste1.bhncdsb.ca/event/dress-in-patterns/
END:VEVENT
BEGIN:VEVENT
DTSTART;VALUE=DATE:20250305
DTEND;VALUE=DATE:20250306
DTSTAMP:20260420T003220
CREATED:20250121T172128Z
LAST-MODIFIED:20250211T184122Z
UID:249385-1741132800-1741219199@hste1.bhncdsb.ca
SUMMARY:Ash Wednesday Mass-(9 am)
DESCRIPTION:
URL:https://hste1.bhncdsb.ca/event/ash-wednesday-mass-wednesday-march-5th-tbd/
END:VEVENT
BEGIN:VEVENT
DTSTART;TZID=America/Toronto:20250227T160000
DTEND;TZID=America/Toronto:20250227T190000
DTSTAMP:20260420T003220
CREATED:20250211T184031Z
LAST-MODIFIED:20250214T161518Z
UID:249490-1740672000-1740682800@hste1.bhncdsb.ca
SUMMARY:Best Start Parent and Community Information Fair
DESCRIPTION:https://calendar.brantfordlibrary.ca/default/Detail/2025-02-27-1600-Best-Start-Parent-and-Community-Information-Fair \n 
URL:https://hste1.bhncdsb.ca/event/best-start-parent-and-community-information-fair/
END:VEVENT
BEGIN:VEVENT
DTSTART;VALUE=DATE:20250227
DTEND;VALUE=DATE:20250228
DTSTAMP:20260420T003220
CREATED:20250121T171925Z
LAST-MODIFIED:20250123T153854Z
UID:249381-1740614400-1740700799@hste1.bhncdsb.ca
SUMMARY:Superhero Day
DESCRIPTION:
URL:https://hste1.bhncdsb.ca/event/superhero-day-thursday-february-27th/
END:VEVENT
BEGIN:VEVENT
DTSTART;TZID=America/Toronto:20250226T080000
DTEND;TZID=America/Toronto:20250226T170000
DTSTAMP:20260420T003220
CREATED:20250211T183827Z
LAST-MODIFIED:20250211T183827Z
UID:249488-1740556800-1740589200@hste1.bhncdsb.ca
SUMMARY:Anti Bullying Day (wear pink)
DESCRIPTION:
URL:https://hste1.bhncdsb.ca/event/anti-bullying-day-wear-pink/
END:VEVENT
BEGIN:VEVENT
DTSTART;VALUE=DATE:20250225
DTEND;VALUE=DATE:20250226
DTSTAMP:20260420T003220
CREATED:20250121T171829Z
LAST-MODIFIED:20250211T183728Z
UID:249379-1740441600-1740527999@hste1.bhncdsb.ca
SUMMARY:Confirmation Meeting @ Church ( pm)
DESCRIPTION:
URL:https://hste1.bhncdsb.ca/event/confirmation-meeting-tuesday-february-25th-tbd/
END:VEVENT
BEGIN:VEVENT
DTSTART;TZID=America/Toronto:20250220T090000
DTEND;TZID=America/Toronto:20250220T100000
DTSTAMP:20260420T003220
CREATED:20250121T171157Z
LAST-MODIFIED:20250124T143358Z
UID:249369-1740042000-1740045600@hste1.bhncdsb.ca
SUMMARY:School Mass
DESCRIPTION:
URL:https://hste1.bhncdsb.ca/event/school-mass-monday-february-20th-tbd/
END:VEVENT
BEGIN:VEVENT
DTSTART;VALUE=DATE:20250217
DTEND;VALUE=DATE:20250218
DTSTAMP:20260420T003220
CREATED:20250121T171541Z
LAST-MODIFIED:20250123T154031Z
UID:249375-1739750400-1739836799@hste1.bhncdsb.ca
SUMMARY:Family Day- (no school)
DESCRIPTION:
URL:https://hste1.bhncdsb.ca/event/family-day-monday-february-17th-no-school/
END:VEVENT
BEGIN:VEVENT
DTSTART;VALUE=DATE:20250210
DTEND;VALUE=DATE:20250211
DTSTAMP:20260420T003220
CREATED:20250121T160208Z
LAST-MODIFIED:20250123T154121Z
UID:249363-1739145600-1739231999@hste1.bhncdsb.ca
SUMMARY:Report Cards go home digitally
DESCRIPTION:Dear Parents/guardians\, \nStarting this year\, St. Stephen’s term 1 report cards will be sent home digitally.
URL:https://hste1.bhncdsb.ca/event/report-cards-go-home-digitally-february-10th/
END:VEVENT
BEGIN:VEVENT
DTSTART;VALUE=DATE:20250204
DTEND;VALUE=DATE:20250205
DTSTAMP:20260420T003220
CREATED:20250121T171433Z
LAST-MODIFIED:20250131T163353Z
UID:249373-1738627200-1738713599@hste1.bhncdsb.ca
SUMMARY:World Cancer Day-(wear yellow)
DESCRIPTION:
URL:https://hste1.bhncdsb.ca/event/world-cander-day-tuesday-february-4th-wear-yellow/
END:VEVENT
BEGIN:VEVENT
DTSTART;TZID=America/Toronto:20250130T090000
DTEND;TZID=America/Toronto:20250130T100000
DTSTAMP:20260420T003220
CREATED:20250121T164806Z
LAST-MODIFIED:20250123T153443Z
UID:249367-1738227600-1738231200@hste1.bhncdsb.ca
SUMMARY:School Mass (9:10 am)
DESCRIPTION:
URL:https://hste1.bhncdsb.ca/event/school-mass-thursday-january-30th-1000-am/
END:VEVENT
BEGIN:VEVENT
DTSTART;TZID=America/Toronto:20250129T163000
DTEND;TZID=America/Toronto:20250129T173000
DTSTAMP:20260420T003220
CREATED:20250121T171703Z
LAST-MODIFIED:20250123T154220Z
UID:249377-1738168200-1738171800@hste1.bhncdsb.ca
SUMMARY:Catholic School Council Meeting-(4:30 pm)
DESCRIPTION:
URL:https://hste1.bhncdsb.ca/event/catholic-school-council-meeting-wednesday-january-29th-430-pm/
END:VEVENT
BEGIN:VEVENT
DTSTART;TZID=America/Toronto:20250128T183000
DTEND;TZID=America/Toronto:20250128T235900
DTSTAMP:20260420T003220
CREATED:20250124T180806Z
LAST-MODIFIED:20250124T184919Z
UID:249422-1738089000-1738108740@hste1.bhncdsb.ca
SUMMARY:Webinar: EQAO Math Night for Parents/Guardians: January 28 at 6:30
DESCRIPTION:https://5679.edulnk.com/e/20vusz/KnMAFB?__$u__
URL:https://hste1.bhncdsb.ca/event/webinar-eqao-math-night-for-parents-guardians-january-28-at-630/
END:VEVENT
END:VCALENDAR