BEGIN:VCALENDAR
VERSION:2.0
PRODID:-//St Stephen&#039;s School - Haldi - ECPv6.15.7//NONSGML v1.0//EN
CALSCALE:GREGORIAN
METHOD:PUBLISH
X-WR-CALNAME:St Stephen&#039;s School - Haldi
X-ORIGINAL-URL:https://hste1.bhncdsb.ca
X-WR-CALDESC:Events for St Stephen&#039;s School - Haldi
REFRESH-INTERVAL;VALUE=DURATION:PT1H
X-Robots-Tag:noindex
X-PUBLISHED-TTL:PT1H
BEGIN:VTIMEZONE
TZID:America/Toronto
BEGIN:DAYLIGHT
TZOFFSETFROM:-0500
TZOFFSETTO:-0400
TZNAME:EDT
DTSTART:20240310T070000
END:DAYLIGHT
BEGIN:STANDARD
TZOFFSETFROM:-0400
TZOFFSETTO:-0500
TZNAME:EST
DTSTART:20241103T060000
END:STANDARD
BEGIN:DAYLIGHT
TZOFFSETFROM:-0500
TZOFFSETTO:-0400
TZNAME:EDT
DTSTART:20250309T070000
END:DAYLIGHT
BEGIN:STANDARD
TZOFFSETFROM:-0400
TZOFFSETTO:-0500
TZNAME:EST
DTSTART:20251102T060000
END:STANDARD
BEGIN:DAYLIGHT
TZOFFSETFROM:-0500
TZOFFSETTO:-0400
TZNAME:EDT
DTSTART:20260308T070000
END:DAYLIGHT
BEGIN:STANDARD
TZOFFSETFROM:-0400
TZOFFSETTO:-0500
TZNAME:EST
DTSTART:20261101T060000
END:STANDARD
END:VTIMEZONE
BEGIN:VEVENT
DTSTART;VALUE=DATE:20251007
DTEND;VALUE=DATE:20251008
DTSTAMP:20260419T210517
CREATED:20250912T150222Z
LAST-MODIFIED:20250912T150222Z
UID:249747-1759795200-1759881599@hste1.bhncdsb.ca
SUMMARY:PA Day
DESCRIPTION:No school for students
URL:https://hste1.bhncdsb.ca/event/pa-day-3/
END:VEVENT
BEGIN:VEVENT
DTSTART;VALUE=DATE:20251003
DTEND;VALUE=DATE:20251004
DTSTAMP:20260419T210517
CREATED:20250912T150141Z
LAST-MODIFIED:20250912T150141Z
UID:249745-1759449600-1759535999@hste1.bhncdsb.ca
SUMMARY:Terry Fox-Colour House Day
DESCRIPTION:
URL:https://hste1.bhncdsb.ca/event/terry-fox-colour-house-day/
END:VEVENT
BEGIN:VEVENT
DTSTART;TZID=America/Toronto:20250930T080000
DTEND;TZID=America/Toronto:20250930T170000
DTSTAMP:20260419T210517
CREATED:20250912T145923Z
LAST-MODIFIED:20250912T145923Z
UID:249743-1759219200-1759251600@hste1.bhncdsb.ca
SUMMARY:Orange Shirt Day
DESCRIPTION:Truth and Reconciliation
URL:https://hste1.bhncdsb.ca/event/orange-shirt-day/
END:VEVENT
BEGIN:VEVENT
DTSTART;VALUE=DATE:20250926
DTEND;VALUE=DATE:20250927
DTSTAMP:20260419T210517
CREATED:20250912T145846Z
LAST-MODIFIED:20250912T145846Z
UID:249741-1758844800-1758931199@hste1.bhncdsb.ca
SUMMARY:Tye Dye Day
DESCRIPTION:
URL:https://hste1.bhncdsb.ca/event/tye-dye-day/
END:VEVENT
BEGIN:VEVENT
DTSTART;TZID=America/Toronto:20250924T161500
DTEND;TZID=America/Toronto:20250924T171500
DTSTAMP:20260419T210517
CREATED:20250828T002419Z
LAST-MODIFIED:20250828T002419Z
UID:249706-1758730500-1758734100@hste1.bhncdsb.ca
SUMMARY:Parent Council Meeting
DESCRIPTION:All are welcome to attend
URL:https://hste1.bhncdsb.ca/event/parent-council-meeting/
END:VEVENT
BEGIN:VEVENT
DTSTART;VALUE=DATE:20250924
DTEND;VALUE=DATE:20250925
DTSTAMP:20260419T210517
CREATED:20250912T145812Z
LAST-MODIFIED:20250912T145812Z
UID:249739-1758672000-1758758399@hste1.bhncdsb.ca
SUMMARY:Spirit Wear Day
DESCRIPTION:St. Stephen Clothing
URL:https://hste1.bhncdsb.ca/event/spirit-wear-day/
END:VEVENT
BEGIN:VEVENT
DTSTART;TZID=America/Toronto:20250918T090000
DTEND;TZID=America/Toronto:20250918T100000
DTSTAMP:20260419T210517
CREATED:20250828T002138Z
LAST-MODIFIED:20250828T002138Z
UID:249702-1758186000-1758189600@hste1.bhncdsb.ca
SUMMARY:Mass
DESCRIPTION:Our first school mass will be @ St. Stephen Church. All are welcome to attend
URL:https://hste1.bhncdsb.ca/event/mass/
END:VEVENT
BEGIN:VEVENT
DTSTART;VALUE=DATE:20250916
DTEND;VALUE=DATE:20250917
DTSTAMP:20260419T210517
CREATED:20250912T145723Z
LAST-MODIFIED:20250912T145723Z
UID:249737-1757980800-1758067199@hste1.bhncdsb.ca
SUMMARY:Dot Day
DESCRIPTION:Wear Polka dots. Begins our food drive for Thanksgiving. All proceeds go to our local Cayuga food bank(lasts until October 17th)
URL:https://hste1.bhncdsb.ca/event/dot-day/
END:VEVENT
BEGIN:VEVENT
DTSTART;VALUE=DATE:20250912
DTEND;VALUE=DATE:20250913
DTSTAMP:20260419T210517
CREATED:20250828T002514Z
LAST-MODIFIED:20250828T002514Z
UID:249708-1757635200-1757721599@hste1.bhncdsb.ca
SUMMARY:PA Day
DESCRIPTION:No school for students
URL:https://hste1.bhncdsb.ca/event/pa-day-2/
END:VEVENT
BEGIN:VEVENT
DTSTART;TZID=America/Toronto:20250910T160000
DTEND;TZID=America/Toronto:20250910T173000
DTSTAMP:20260419T210517
CREATED:20250828T002312Z
LAST-MODIFIED:20250828T002312Z
UID:249704-1757520000-1757525400@hste1.bhncdsb.ca
SUMMARY:Meet the Teacher BBQ
DESCRIPTION:Cayuga firefighters will be BBQing for the St. Stephen Community.
URL:https://hste1.bhncdsb.ca/event/meet-the-teacher-bbq/
END:VEVENT
BEGIN:VEVENT
DTSTART;TZID=America/Toronto:20250902T085000
DTEND;TZID=America/Toronto:20250902T151000
DTSTAMP:20260419T210517
CREATED:20250828T002606Z
LAST-MODIFIED:20250828T002606Z
UID:249710-1756803000-1756825800@hste1.bhncdsb.ca
SUMMARY:First Day of School
DESCRIPTION:
URL:https://hste1.bhncdsb.ca/event/first-day-of-school/
END:VEVENT
BEGIN:VEVENT
DTSTART;VALUE=DATE:20250623
DTEND;VALUE=DATE:20250624
DTSTAMP:20260419T210517
CREATED:20250516T152604Z
LAST-MODIFIED:20250516T154451Z
UID:249637-1750636800-1750723199@hste1.bhncdsb.ca
SUMMARY:Grade 8 Graduation Mass
DESCRIPTION:
URL:https://hste1.bhncdsb.ca/event/grade-8-graduation-mass/
END:VEVENT
BEGIN:VEVENT
DTSTART;VALUE=DATE:20250623
DTEND;VALUE=DATE:20250624
DTSTAMP:20260419T210517
CREATED:20250516T152656Z
LAST-MODIFIED:20250516T154808Z
UID:249639-1750636800-1750723199@hste1.bhncdsb.ca
SUMMARY:Term 2 Reports go home
DESCRIPTION:
URL:https://hste1.bhncdsb.ca/event/term-2-reports-go-home/
END:VEVENT
BEGIN:VEVENT
DTSTART;VALUE=DATE:20250618
DTEND;VALUE=DATE:20250619
DTSTAMP:20260419T210517
CREATED:20250516T152906Z
LAST-MODIFIED:20250516T154908Z
UID:249643-1750204800-1750291199@hste1.bhncdsb.ca
SUMMARY:Play Day
DESCRIPTION:
URL:https://hste1.bhncdsb.ca/event/play-day/
END:VEVENT
BEGIN:VEVENT
DTSTART;VALUE=DATE:20250617
DTEND;VALUE=DATE:20250618
DTSTAMP:20260419T210517
CREATED:20250516T152834Z
LAST-MODIFIED:20250516T155911Z
UID:249641-1750118400-1750204799@hste1.bhncdsb.ca
SUMMARY:Grade 6/7 trip (Tree Top Trekking)
DESCRIPTION:@ Binbrook 9:30 am
URL:https://hste1.bhncdsb.ca/event/grade-6-7-trip-tree-top-trekking/
END:VEVENT
BEGIN:VEVENT
DTSTART;VALUE=DATE:20250613
DTEND;VALUE=DATE:20250614
DTSTAMP:20260419T210517
CREATED:20250516T152454Z
LAST-MODIFIED:20250516T155753Z
UID:249635-1749772800-1749859199@hste1.bhncdsb.ca
SUMMARY:Grade 7/8 Trip (Niagara Falls)
DESCRIPTION:
URL:https://hste1.bhncdsb.ca/event/grade-8-trip-niagara-falls/
END:VEVENT
BEGIN:VEVENT
DTSTART;VALUE=DATE:20250610
DTEND;VALUE=DATE:20250611
DTSTAMP:20260419T210517
CREATED:20250516T153052Z
LAST-MODIFIED:20250516T155718Z
UID:249645-1749513600-1749599999@hste1.bhncdsb.ca
SUMMARY:Track and Field
DESCRIPTION:@ Holy Trinity H.S 9 am
URL:https://hste1.bhncdsb.ca/event/track-and-field/
END:VEVENT
BEGIN:VEVENT
DTSTART;VALUE=DATE:20250605
DTEND;VALUE=DATE:20250606
DTSTAMP:20260419T210517
CREATED:20250516T153515Z
LAST-MODIFIED:20250516T160202Z
UID:249649-1749081600-1749167999@hste1.bhncdsb.ca
SUMMARY:Grades 2-5 (Adventure Village)
DESCRIPTION:@ Hamilton 10:00 am
URL:https://hste1.bhncdsb.ca/event/grades-2-5-adventure-village/
END:VEVENT
BEGIN:VEVENT
DTSTART;TZID=America/Toronto:20250604T134500
DTEND;TZID=America/Toronto:20250604T144500
DTSTAMP:20260419T210517
CREATED:20250516T153418Z
LAST-MODIFIED:20250516T155531Z
UID:249647-1749044700-1749048300@hste1.bhncdsb.ca
SUMMARY:Kinder Orientation Day
DESCRIPTION:In library…
URL:https://hste1.bhncdsb.ca/event/kinder-orientation-day/
END:VEVENT
BEGIN:VEVENT
DTSTART;TZID=America/Toronto:20250528T161500
DTEND;TZID=America/Toronto:20250528T171500
DTSTAMP:20260419T210517
CREATED:20250502T153115Z
LAST-MODIFIED:20250502T153115Z
UID:249616-1748448900-1748452500@hste1.bhncdsb.ca
SUMMARY:Catholic School Council (CSC) Meeting
DESCRIPTION:
URL:https://hste1.bhncdsb.ca/event/catholic-school-council-csc-meeting/
LOCATION:St. Stephen School Principal Office
END:VEVENT
BEGIN:VEVENT
DTSTART;TZID=America/Toronto:20250528T080000
DTEND;TZID=America/Toronto:20250620T170000
DTSTAMP:20260419T210517
CREATED:20250401T170504Z
LAST-MODIFIED:20250417T134004Z
UID:249584-1748419200-1750438800@hste1.bhncdsb.ca
SUMMARY:EQAO (Gr. 3 & 6)
DESCRIPTION:Grade 3s May 26-20 \nGrade 6s June 4-11
URL:https://hste1.bhncdsb.ca/event/eqao-gr-3-6/
END:VEVENT
BEGIN:VEVENT
DTSTART;TZID=America/Toronto:20250518T133000
DTEND;TZID=America/Toronto:20250518T170000
DTSTAMP:20260419T210517
CREATED:20250502T152709Z
LAST-MODIFIED:20250502T152826Z
UID:249614-1747575000-1747587600@hste1.bhncdsb.ca
SUMMARY:Confirmation
DESCRIPTION:
URL:https://hste1.bhncdsb.ca/event/confirmation/
LOCATION:St. Stephen Church
END:VEVENT
BEGIN:VEVENT
DTSTART;VALUE=DATE:20250606
DTEND;VALUE=DATE:20250607
DTSTAMP:20260419T210517
CREATED:20250516T152347Z
LAST-MODIFIED:20250516T154709Z
UID:249633-1749168000-1749254399@hste1.bhncdsb.ca
SUMMARY:PA Day (no school)
DESCRIPTION:
URL:https://hste1.bhncdsb.ca/event/pa-day-no-school/
END:VEVENT
BEGIN:VEVENT
DTSTART;TZID=America/Toronto:20250505T080000
DTEND;TZID=America/Toronto:20250509T170000
DTSTAMP:20260419T210517
CREATED:20250502T154615Z
LAST-MODIFIED:20250502T154615Z
UID:249619-1746432000-1746810000@hste1.bhncdsb.ca
SUMMARY:Catholic Education Week
DESCRIPTION:The students will be doing Catholic centered activities throughout the week.
URL:https://hste1.bhncdsb.ca/event/catholic-education-week/
END:VEVENT
BEGIN:VEVENT
DTSTART;VALUE=DATE:20250505
DTEND;VALUE=DATE:20250506
DTSTAMP:20260419T210517
CREATED:20250417T134129Z
LAST-MODIFIED:20250417T134129Z
UID:249601-1746403200-1746489599@hste1.bhncdsb.ca
SUMMARY:Chocolate Bar Fundraiser Ends
DESCRIPTION:
URL:https://hste1.bhncdsb.ca/event/chocolate-bar-fundraiser-ends/
END:VEVENT
BEGIN:VEVENT
DTSTART;TZID=America/Toronto:20250504T103000
DTEND;TZID=America/Toronto:20250504T113000
DTSTAMP:20260419T210517
CREATED:20250415T170318Z
LAST-MODIFIED:20250415T170318Z
UID:249595-1746354600-1746358200@hste1.bhncdsb.ca
SUMMARY:First Holy Communion
DESCRIPTION:
URL:https://hste1.bhncdsb.ca/event/first-holy-communion/
LOCATION:St. Stephen Church
END:VEVENT
BEGIN:VEVENT
DTSTART;TZID=America/Toronto:20250430T161500
DTEND;TZID=America/Toronto:20250430T171500
DTSTAMP:20260419T210517
CREATED:20250401T164410Z
LAST-MODIFIED:20250401T164410Z
UID:249580-1746029700-1746033300@hste1.bhncdsb.ca
SUMMARY:Catholic School Council Meeting
DESCRIPTION:
URL:https://hste1.bhncdsb.ca/event/catholic-school-council-meeting/
END:VEVENT
BEGIN:VEVENT
DTSTART;TZID=America/Toronto:20250424T160000
DTEND;TZID=America/Toronto:20250424T180000
DTSTAMP:20260419T210517
CREATED:20250211T175850Z
LAST-MODIFIED:20250401T163954Z
UID:249481-1745510400-1745517600@hste1.bhncdsb.ca
SUMMARY:Math Curriculum Night (4-6 pm)
DESCRIPTION:Save the date!!!! Thursday\, April 24th!!! \nWe are excited to share some information with you about our curriculum night!!! So we are going to host a math night here at St. Stephen’s!!  Everyone is welcome to attend … We are going to have a few rooms laid out for you to visit!! There will be snacks and lots of fun happening!!! There will be a room dedicated to math games for each level (primary\, junior\, intermediate)!!   There will also be a takeaway with instructions on how to play the games you learn … Please come and join us and enjoy some great learning that feels like fun!! 🙂 \nDon’t forget bring your family … The materials will be available for you to actually play the games together!! \nThanks so much!! Hope to see you March 20th from 4 to 6 pm!!!!! \n  \n  \n**Keep Smiling** \nMaggie Scott \nSt. Stephen’s School \nELKP teacher!!
URL:https://hste1.bhncdsb.ca/event/math-curriculum-night/
END:VEVENT
BEGIN:VEVENT
DTSTART;VALUE=DATE:20250421
DTEND;VALUE=DATE:20250422
DTSTAMP:20260419T210517
CREATED:20250407T123149Z
LAST-MODIFIED:20250407T123149Z
UID:249590-1745193600-1745279999@hste1.bhncdsb.ca
SUMMARY:Easter Monday (no school)
DESCRIPTION:
URL:https://hste1.bhncdsb.ca/event/easter-monday-no-school/
END:VEVENT
BEGIN:VEVENT
DTSTART;VALUE=DATE:20250418
DTEND;VALUE=DATE:20250419
DTSTAMP:20260419T210517
CREATED:20250407T123108Z
LAST-MODIFIED:20250407T123108Z
UID:249588-1744934400-1745020799@hste1.bhncdsb.ca
SUMMARY:Good Friday (no school)
DESCRIPTION:
URL:https://hste1.bhncdsb.ca/event/good-friday-no-school/
END:VEVENT
END:VCALENDAR