BEGIN:VCALENDAR
VERSION:2.0
PRODID:-//St Stephen&#039;s School - Haldi - ECPv6.15.7//NONSGML v1.0//EN
CALSCALE:GREGORIAN
METHOD:PUBLISH
X-ORIGINAL-URL:https://hste1.bhncdsb.ca
X-WR-CALDESC:Events for St Stephen&#039;s School - Haldi
REFRESH-INTERVAL;VALUE=DURATION:PT1H
X-Robots-Tag:noindex
X-PUBLISHED-TTL:PT1H
BEGIN:VTIMEZONE
TZID:America/Toronto
BEGIN:DAYLIGHT
TZOFFSETFROM:-0500
TZOFFSETTO:-0400
TZNAME:EDT
DTSTART:20240310T070000
END:DAYLIGHT
BEGIN:STANDARD
TZOFFSETFROM:-0400
TZOFFSETTO:-0500
TZNAME:EST
DTSTART:20241103T060000
END:STANDARD
BEGIN:DAYLIGHT
TZOFFSETFROM:-0500
TZOFFSETTO:-0400
TZNAME:EDT
DTSTART:20250309T070000
END:DAYLIGHT
BEGIN:STANDARD
TZOFFSETFROM:-0400
TZOFFSETTO:-0500
TZNAME:EST
DTSTART:20251102T060000
END:STANDARD
BEGIN:DAYLIGHT
TZOFFSETFROM:-0500
TZOFFSETTO:-0400
TZNAME:EDT
DTSTART:20260308T070000
END:DAYLIGHT
BEGIN:STANDARD
TZOFFSETFROM:-0400
TZOFFSETTO:-0500
TZNAME:EST
DTSTART:20261101T060000
END:STANDARD
END:VTIMEZONE
BEGIN:VEVENT
DTSTART;TZID=America/Toronto:20250902T085000
DTEND;TZID=America/Toronto:20250902T151000
DTSTAMP:20260421T210604
CREATED:20250828T002606Z
LAST-MODIFIED:20250828T002606Z
UID:249710-1756803000-1756825800@hste1.bhncdsb.ca
SUMMARY:First Day of School
DESCRIPTION:
URL:https://hste1.bhncdsb.ca/event/first-day-of-school/
END:VEVENT
BEGIN:VEVENT
DTSTART;TZID=America/Toronto:20250910T160000
DTEND;TZID=America/Toronto:20250910T173000
DTSTAMP:20260421T210604
CREATED:20250828T002312Z
LAST-MODIFIED:20250828T002312Z
UID:249704-1757520000-1757525400@hste1.bhncdsb.ca
SUMMARY:Meet the Teacher BBQ
DESCRIPTION:Cayuga firefighters will be BBQing for the St. Stephen Community.
URL:https://hste1.bhncdsb.ca/event/meet-the-teacher-bbq/
END:VEVENT
BEGIN:VEVENT
DTSTART;VALUE=DATE:20250912
DTEND;VALUE=DATE:20250913
DTSTAMP:20260421T210604
CREATED:20250828T002514Z
LAST-MODIFIED:20250828T002514Z
UID:249708-1757635200-1757721599@hste1.bhncdsb.ca
SUMMARY:PA Day
DESCRIPTION:No school for students
URL:https://hste1.bhncdsb.ca/event/pa-day-2/
END:VEVENT
BEGIN:VEVENT
DTSTART;VALUE=DATE:20250916
DTEND;VALUE=DATE:20250917
DTSTAMP:20260421T210604
CREATED:20250912T145723Z
LAST-MODIFIED:20250912T145723Z
UID:249737-1757980800-1758067199@hste1.bhncdsb.ca
SUMMARY:Dot Day
DESCRIPTION:Wear Polka dots. Begins our food drive for Thanksgiving. All proceeds go to our local Cayuga food bank(lasts until October 17th)
URL:https://hste1.bhncdsb.ca/event/dot-day/
END:VEVENT
BEGIN:VEVENT
DTSTART;TZID=America/Toronto:20250918T090000
DTEND;TZID=America/Toronto:20250918T100000
DTSTAMP:20260421T210604
CREATED:20250828T002138Z
LAST-MODIFIED:20250828T002138Z
UID:249702-1758186000-1758189600@hste1.bhncdsb.ca
SUMMARY:Mass
DESCRIPTION:Our first school mass will be @ St. Stephen Church. All are welcome to attend
URL:https://hste1.bhncdsb.ca/event/mass/
END:VEVENT
BEGIN:VEVENT
DTSTART;VALUE=DATE:20250924
DTEND;VALUE=DATE:20250925
DTSTAMP:20260421T210604
CREATED:20250912T145812Z
LAST-MODIFIED:20250912T145812Z
UID:249739-1758672000-1758758399@hste1.bhncdsb.ca
SUMMARY:Spirit Wear Day
DESCRIPTION:St. Stephen Clothing
URL:https://hste1.bhncdsb.ca/event/spirit-wear-day/
END:VEVENT
BEGIN:VEVENT
DTSTART;TZID=America/Toronto:20250924T161500
DTEND;TZID=America/Toronto:20250924T171500
DTSTAMP:20260421T210604
CREATED:20250828T002419Z
LAST-MODIFIED:20250828T002419Z
UID:249706-1758730500-1758734100@hste1.bhncdsb.ca
SUMMARY:Parent Council Meeting
DESCRIPTION:All are welcome to attend
URL:https://hste1.bhncdsb.ca/event/parent-council-meeting/
END:VEVENT
BEGIN:VEVENT
DTSTART;VALUE=DATE:20250926
DTEND;VALUE=DATE:20250927
DTSTAMP:20260421T210604
CREATED:20250912T145846Z
LAST-MODIFIED:20250912T145846Z
UID:249741-1758844800-1758931199@hste1.bhncdsb.ca
SUMMARY:Tye Dye Day
DESCRIPTION:
URL:https://hste1.bhncdsb.ca/event/tye-dye-day/
END:VEVENT
BEGIN:VEVENT
DTSTART;TZID=America/Toronto:20250930T080000
DTEND;TZID=America/Toronto:20250930T170000
DTSTAMP:20260421T210604
CREATED:20250912T145923Z
LAST-MODIFIED:20250912T145923Z
UID:249743-1759219200-1759251600@hste1.bhncdsb.ca
SUMMARY:Orange Shirt Day
DESCRIPTION:Truth and Reconciliation
URL:https://hste1.bhncdsb.ca/event/orange-shirt-day/
END:VEVENT
END:VCALENDAR