BEGIN:VCALENDAR
VERSION:2.0
PRODID:-//St Stephen&#039;s School - Haldi - ECPv6.15.7//NONSGML v1.0//EN
CALSCALE:GREGORIAN
METHOD:PUBLISH
X-WR-CALNAME:St Stephen&#039;s School - Haldi
X-ORIGINAL-URL:https://hste1.bhncdsb.ca
X-WR-CALDESC:Events for St Stephen&#039;s School - Haldi
REFRESH-INTERVAL;VALUE=DURATION:PT1H
X-Robots-Tag:noindex
X-PUBLISHED-TTL:PT1H
BEGIN:VTIMEZONE
TZID:America/Toronto
BEGIN:DAYLIGHT
TZOFFSETFROM:-0500
TZOFFSETTO:-0400
TZNAME:EDT
DTSTART:20250309T070000
END:DAYLIGHT
BEGIN:STANDARD
TZOFFSETFROM:-0400
TZOFFSETTO:-0500
TZNAME:EST
DTSTART:20251102T060000
END:STANDARD
BEGIN:DAYLIGHT
TZOFFSETFROM:-0500
TZOFFSETTO:-0400
TZNAME:EDT
DTSTART:20260308T070000
END:DAYLIGHT
BEGIN:STANDARD
TZOFFSETFROM:-0400
TZOFFSETTO:-0500
TZNAME:EST
DTSTART:20261101T060000
END:STANDARD
BEGIN:DAYLIGHT
TZOFFSETFROM:-0500
TZOFFSETTO:-0400
TZNAME:EDT
DTSTART:20270314T070000
END:DAYLIGHT
BEGIN:STANDARD
TZOFFSETFROM:-0400
TZOFFSETTO:-0500
TZNAME:EST
DTSTART:20271107T060000
END:STANDARD
END:VTIMEZONE
BEGIN:VEVENT
DTSTART;TZID=America/Toronto:20260107T080000
DTEND;TZID=America/Toronto:20260107T170000
DTSTAMP:20260421T144243
CREATED:20251208T180619Z
LAST-MODIFIED:20251209T155450Z
UID:249891-1767772800-1767805200@hste1.bhncdsb.ca
SUMMARY:P.J. Day Wednesday\, January 7th
DESCRIPTION:Dear Parents & Guardians\, \nWednesday\, January 7th is P.J. Day\, students are to wear appropriate attire for the day. \nAs always\, my door is open should you have any concerns or compliments you wish to share. Your partnership is deeply appreciated. \nThank you for your ongoing support of our school community. \nMr. Docherty
URL:https://hste1.bhncdsb.ca/event/january-7th-p-j-day/
END:VEVENT
BEGIN:VEVENT
DTSTART;TZID=America/Toronto:20260113T080000
DTEND;TZID=America/Toronto:20260113T170000
DTSTAMP:20260421T144243
CREATED:20251208T181455Z
LAST-MODIFIED:20251209T160436Z
UID:249893-1768291200-1768323600@hste1.bhncdsb.ca
SUMMARY:Spirit Wear Day Tuesday\, January 13th
DESCRIPTION:Dear Parent &b Guardians\, \nTuesday\, January 13th\, 2026 is Spirit wear day. Students are encouraged to wear there St. Stephen’s Clothing to show school spirit. \nAs always\, my door is open should you have any concerns or compliments you wish to share. Your partnership is deeply appreciated. \nThank you for your ongoing support of our school community. \nMr. Docherty
URL:https://hste1.bhncdsb.ca/event/tuesday-january-13th/
END:VEVENT
BEGIN:VEVENT
DTSTART;TZID=America/Toronto:20260113T080000
DTEND;TZID=America/Toronto:20260113T170000
DTSTAMP:20260421T144243
CREATED:20251216T163847Z
LAST-MODIFIED:20251216T164738Z
UID:250021-1768291200-1768323600@hste1.bhncdsb.ca
SUMMARY:Subway Day Jan 13
DESCRIPTION:
URL:https://hste1.bhncdsb.ca/event/subway-day-jan-13/
END:VEVENT
BEGIN:VEVENT
DTSTART;TZID=America/Toronto:20260114T080000
DTEND;TZID=America/Toronto:20260114T170000
DTSTAMP:20260421T144243
CREATED:20251218T194635Z
LAST-MODIFIED:20251218T194635Z
UID:250070-1768377600-1768410000@hste1.bhncdsb.ca
SUMMARY:Jan 14th ELKP- Gr 3/4 Skate day
DESCRIPTION:
URL:https://hste1.bhncdsb.ca/event/jan-14th-elkp-gr-3-4-skate-day/
END:VEVENT
BEGIN:VEVENT
DTSTART;TZID=America/Toronto:20260115T080000
DTEND;TZID=America/Toronto:20260115T170000
DTSTAMP:20260421T144243
CREATED:20251208T182054Z
LAST-MODIFIED:20251209T160829Z
UID:249895-1768464000-1768496400@hste1.bhncdsb.ca
SUMMARY:School Mass Thursday\, January\, 15th
DESCRIPTION:Dear Parents & Guardians\, \nOur first school mass of 2026 will be held on Thursday\, January 15th at 9am. \nAs always\, my door is open should you have any concerns or compliments you wish to share. Your partnership is deeply appreciated. \nThank you for your ongoing support of our school community. \nMr. Docherty
URL:https://hste1.bhncdsb.ca/event/thursday-january-15th-school-mass/
END:VEVENT
BEGIN:VEVENT
DTSTART;TZID=America/Toronto:20260115T080000
DTEND;TZID=America/Toronto:20260115T170000
DTSTAMP:20260421T144243
CREATED:20251218T194708Z
LAST-MODIFIED:20251218T194708Z
UID:250072-1768464000-1768496400@hste1.bhncdsb.ca
SUMMARY:Jan 15th Gr 4/5-7/8 Skate Day!
DESCRIPTION:
URL:https://hste1.bhncdsb.ca/event/jan-15th-gr-4-5-7-8-skate-day/
END:VEVENT
BEGIN:VEVENT
DTSTART;TZID=America/Toronto:20260119T080000
DTEND;TZID=America/Toronto:20260119T170000
DTSTAMP:20260421T144243
CREATED:20251208T182354Z
LAST-MODIFIED:20251209T160737Z
UID:249898-1768809600-1768842000@hste1.bhncdsb.ca
SUMMARY:P.A. Day\, Monday\, January 19th
DESCRIPTION:Dear Parents & Guardians\, \nPlease note that the school will be closed for students on Monday\, January 19th for a P.A. Day. \nAs always\, my door is open should you have any concerns or compliments you wish to share. Your partnership is deeply appreciated. \nThank you for your ongoing support of our school community. \nMr. Docherty
URL:https://hste1.bhncdsb.ca/event/p-a-day-monday-january-19th/
END:VEVENT
BEGIN:VEVENT
DTSTART;TZID=America/Toronto:20260120T080000
DTEND;TZID=America/Toronto:20260120T170000
DTSTAMP:20260421T144243
CREATED:20251216T164003Z
LAST-MODIFIED:20251216T165443Z
UID:250023-1768896000-1768928400@hste1.bhncdsb.ca
SUMMARY:Subway Day Jan 20
DESCRIPTION:
URL:https://hste1.bhncdsb.ca/event/subway-day-jan-20/
END:VEVENT
BEGIN:VEVENT
DTSTART;TZID=America/Toronto:20260122T080000
DTEND;TZID=America/Toronto:20260122T170000
DTSTAMP:20260421T144243
CREATED:20251208T182655Z
LAST-MODIFIED:20251209T160506Z
UID:249900-1769068800-1769101200@hste1.bhncdsb.ca
SUMMARY:Jersey Day Thursday\, January 22nd
DESCRIPTION:Dear Parents & Guardians\, \nWe invite all students to wear their favorite team jersey on Thursday\, January 22nd\, 2026. \nAs always\, my door is open should you have any concerns or compliments you wish to share. Your partnership is deeply appreciated. \nThank you for your ongoing support of our school community. \nMr. Docherty
URL:https://hste1.bhncdsb.ca/event/thursday-january-22nd-is-jersey-day/
END:VEVENT
BEGIN:VEVENT
DTSTART;TZID=America/Toronto:20260122T080000
DTEND;TZID=America/Toronto:20260211T170000
DTSTAMP:20260421T144243
CREATED:20260122T195111Z
LAST-MODIFIED:20260122T195111Z
UID:250089-1769068800-1770829200@hste1.bhncdsb.ca
SUMMARY:Candy Grams for Valentines
DESCRIPTION:Selling suckers for Valentines. From Feb 2-11\, will be distributed Feb 13.
URL:https://hste1.bhncdsb.ca/event/candy-grams-for-valentines/
END:VEVENT
BEGIN:VEVENT
DTSTART;TZID=America/Toronto:20260127T080000
DTEND;TZID=America/Toronto:20260127T170000
DTSTAMP:20260421T144243
CREATED:20251208T183359Z
LAST-MODIFIED:20251209T155550Z
UID:249907-1769500800-1769533200@hste1.bhncdsb.ca
SUMMARY:Twin Day\, Tuesday\, January 27th
DESCRIPTION:Dear Parents & Guardians\, \nTwin day will be held on Tuesday\, January 27th\, 2026. Students are encouraged to participate in this fun activity. \nAs always\, my door is open should you have any concerns or compliments you wish to share. Your partnership is deeply appreciated. \nThank you for your ongoing support of our school community. \nMr. Docherty
URL:https://hste1.bhncdsb.ca/event/twin-day-tuesday-january-27th/
END:VEVENT
BEGIN:VEVENT
DTSTART;TZID=America/Toronto:20260127T080000
DTEND;TZID=America/Toronto:20260127T170000
DTSTAMP:20260421T144243
CREATED:20251216T164110Z
LAST-MODIFIED:20251216T164634Z
UID:250025-1769500800-1769533200@hste1.bhncdsb.ca
SUMMARY:Subway Day Jan 27th
DESCRIPTION:
URL:https://hste1.bhncdsb.ca/event/subway-day-jan-27th/
END:VEVENT
BEGIN:VEVENT
DTSTART;TZID=America/Toronto:20260130T080000
DTEND;TZID=America/Toronto:20260130T170000
DTSTAMP:20260421T144243
CREATED:20251208T183708Z
LAST-MODIFIED:20251209T160120Z
UID:249909-1769760000-1769792400@hste1.bhncdsb.ca
SUMMARY:Colour houses for Carnaval\, January 30th
DESCRIPTION:Dear Parents & Guardians\, \nColour house of Carnaval will be held on Friday\, January 30th\, 2026. \nAs always\, my door is open should you have any concerns or compliments you wish to share. Your partnership is deeply appreciated. \nThank you for your ongoing support of our school community. \nMr. Docherty
URL:https://hste1.bhncdsb.ca/event/colour-houses-for-carnival/
END:VEVENT
END:VCALENDAR